BEGIN:VCALENDAR
VERSION:2.0
PRODID:-//Bürgerbus Senden - ECPv6.15.20//NONSGML v1.0//EN
CALSCALE:GREGORIAN
METHOD:PUBLISH
X-WR-CALNAME:Bürgerbus Senden
X-ORIGINAL-URL:https://buergerbus-senden.de
X-WR-CALDESC:Veranstaltungen für Bürgerbus Senden
REFRESH-INTERVAL;VALUE=DURATION:PT1H
X-Robots-Tag:noindex
X-PUBLISHED-TTL:PT1H
BEGIN:VTIMEZONE
TZID:Europe/Berlin
BEGIN:DAYLIGHT
TZOFFSETFROM:+0100
TZOFFSETTO:+0200
TZNAME:CEST
DTSTART:20240331T010000
END:DAYLIGHT
BEGIN:STANDARD
TZOFFSETFROM:+0200
TZOFFSETTO:+0100
TZNAME:CET
DTSTART:20241027T010000
END:STANDARD
BEGIN:DAYLIGHT
TZOFFSETFROM:+0100
TZOFFSETTO:+0200
TZNAME:CEST
DTSTART:20250330T010000
END:DAYLIGHT
BEGIN:STANDARD
TZOFFSETFROM:+0200
TZOFFSETTO:+0100
TZNAME:CET
DTSTART:20251026T010000
END:STANDARD
BEGIN:DAYLIGHT
TZOFFSETFROM:+0100
TZOFFSETTO:+0200
TZNAME:CEST
DTSTART:20260329T010000
END:DAYLIGHT
BEGIN:STANDARD
TZOFFSETFROM:+0200
TZOFFSETTO:+0100
TZNAME:CET
DTSTART:20261025T010000
END:STANDARD
END:VTIMEZONE
BEGIN:VEVENT
DTSTART;TZID=Europe/Berlin:20250121T180000
DTEND;TZID=Europe/Berlin:20250121T210000
DTSTAMP:20260425T054745
CREATED:20241117T203707Z
LAST-MODIFIED:20241231T142019Z
UID:5469-1737482400-1737493200@buergerbus-senden.de
SUMMARY:Dankeschön-Abend für Aktive im Bürgerbus-Verein Senden
DESCRIPTION:
URL:https://buergerbus-senden.de/event/dankeschoen-abend-fuer-aktive-im-buergerbus-verein-senden/
LOCATION:Niemeyer’s 1886\, 48308 Senden\, Herrenstr. 4
END:VEVENT
END:VCALENDAR