BEGIN:VCALENDAR
VERSION:2.0
PRODID:-//Bürgerbus Senden - ECPv6.15.20//NONSGML v1.0//EN
CALSCALE:GREGORIAN
METHOD:PUBLISH
X-ORIGINAL-URL:https://buergerbus-senden.de
X-WR-CALDESC:Veranstaltungen für Bürgerbus Senden
REFRESH-INTERVAL;VALUE=DURATION:PT1H
X-Robots-Tag:noindex
X-PUBLISHED-TTL:PT1H
BEGIN:VTIMEZONE
TZID:Europe/Berlin
BEGIN:DAYLIGHT
TZOFFSETFROM:+0100
TZOFFSETTO:+0200
TZNAME:CEST
DTSTART:20230326T010000
END:DAYLIGHT
BEGIN:STANDARD
TZOFFSETFROM:+0200
TZOFFSETTO:+0100
TZNAME:CET
DTSTART:20231029T010000
END:STANDARD
BEGIN:DAYLIGHT
TZOFFSETFROM:+0100
TZOFFSETTO:+0200
TZNAME:CEST
DTSTART:20240331T010000
END:DAYLIGHT
BEGIN:STANDARD
TZOFFSETFROM:+0200
TZOFFSETTO:+0100
TZNAME:CET
DTSTART:20241027T010000
END:STANDARD
BEGIN:DAYLIGHT
TZOFFSETFROM:+0100
TZOFFSETTO:+0200
TZNAME:CEST
DTSTART:20250330T010000
END:DAYLIGHT
BEGIN:STANDARD
TZOFFSETFROM:+0200
TZOFFSETTO:+0100
TZNAME:CET
DTSTART:20251026T010000
END:STANDARD
END:VTIMEZONE
BEGIN:VEVENT
DTSTART;TZID=Europe/Berlin:20240425T144500
DTEND;TZID=Europe/Berlin:20240425T213000
DTSTAMP:20260425T195155
CREATED:20240315T141735Z
LAST-MODIFIED:20240405T144608Z
UID:5197-1714056300-1714080600@buergerbus-senden.de
SUMMARY:Fahrradtour des Bürgerbus-Vereins
DESCRIPTION:Zu dieser Radtour sind auch die Partnerinnen und Partner eingeladen. Auf dem Programm steht eine Betriebsbesichtigung und ein vergnüglich-sportlich-kulinarischer Aufenthalt beim S. C. Blau-Weiß Ottmarsbocholt. Bitte meldet euch bis zum 16.04.2024 an oder ab und beantwortet die Fragen aus der Einladung. Sh. E-Mail vom Servicebüro vom 05.04.2024.
URL:https://buergerbus-senden.de/event/fahrradtour-des-buergerbus-vereins/
END:VEVENT
END:VCALENDAR